BEGIN:VCALENDAR
VERSION:2.0
PRODID:-//wp-events-plugin.com//6.6.3//EN
TZID:Europe/Berlin
X-WR-TIMEZONE:Europe/Berlin
BEGIN:VEVENT
UID:379@polis180.org
DTSTART;TZID=Europe/Berlin:20190121T183000
DTEND;TZID=Europe/Berlin:20190121T210000
DTSTAMP:20190109T110448Z
URL:https://polis180.org/events/21-jan-polis-workshop-gender-friedenssiche
 rung-maskulinitaeten-und-gewalt-im-kontext-von-un-friedensmissionen/
SUMMARY:21 JAN | WORKSHOP | Gender &amp\; Friedenssicherung: Maskulinitäte
 n und Gewalt im Kontext von UN-Friedensmissionen
DESCRIPTION:In diesem Workshop diskutieren wir mit Expert*innen aus der Ziv
 ilgesellschaft sowie Soldaten*innen und Wissenschaftler*innen über die Be
 rücksichtigung von Geschlechterperspektiven in der Arbeit von UN-Friedens
 missionen.
ATTACH;FMTTYPE=image/jpeg:https://polis180.org/wp-content/uploads/2018/12/
 5-min1.jpeg
CATEGORIES:Öffentlich
LOCATION:Haus der Demokratie und Menschenrechte\, Greifswalder Str. 4\, 104
 05\, Deutschland
GEO:52.5289327;13.425043500000015
X-APPLE-STRUCTURED-LOCATION;VALUE=URI;X-ADDRESS=Greifswalder Str. 4\, 10405
 \, Deutschland;X-APPLE-RADIUS=100;X-TITLE=Haus der Demokratie und Menschen
 rechte:geo:52.5289327,13.425043500000015
END:VEVENT
BEGIN:VTIMEZONE
TZID:Europe/Berlin
X-LIC-LOCATION:Europe/Berlin
BEGIN:STANDARD
DTSTART:20181028T020000
TZOFFSETFROM:+0200
TZOFFSETTO:+0100
TZNAME:CET
END:STANDARD
END:VTIMEZONE
END:VCALENDAR